BEGIN:VCALENDAR
VERSION:2.0
PRODID:-//pretix//PonyCon_Holland_Tickets//
BEGIN:VTIMEZONE
TZID:Europe/Amsterdam
BEGIN:STANDARD
DTSTART:20001029T040000
RRULE:FREQ=YEARLY;BYDAY=-1SU;BYMONTH=10
TZNAME:CET
TZOFFSETFROM:+0200
TZOFFSETTO:+0100
END:STANDARD
BEGIN:DAYLIGHT
DTSTART:20000326T030000
RRULE:FREQ=YEARLY;BYDAY=-1SU;BYMONTH=3
TZNAME:CEST
TZOFFSETFROM:+0100
TZOFFSETTO:+0200
END:DAYLIGHT
END:VTIMEZONE
BEGIN:VEVENT
UID:pretix-BNL-M30-0@tickets.bronies.nl
DTSTART;TZID=Europe/Amsterdam:20240525T120000
DTEND;TZID=Europe/Amsterdam:20240525T180000
DESCRIPTION:Tickets: https://tickets.bronies.nl/M30/\nOrganizer: BroniesNL
DTSTAMP:20260421T120852Z
LOCATION:MFC De Bolder\, Dobbe 29\, 8032 JW Zwolle\, The Netherlands
SUMMARY:BroniesNL Meet 30
END:VEVENT
END:VCALENDAR
